BEGIN:VCALENDAR
VERSION:2.0
PRODID:-//Mairie de Saint-André-le-Coq - ECPv6.15.20//NONSGML v1.0//EN
CALSCALE:GREGORIAN
METHOD:PUBLISH
X-WR-CALNAME:Mairie de Saint-André-le-Coq
X-ORIGINAL-URL:https://saintandrelecoq.fr
X-WR-CALDESC:Évènements pour Mairie de Saint-André-le-Coq
REFRESH-INTERVAL;VALUE=DURATION:PT1H
X-Robots-Tag:noindex
X-PUBLISHED-TTL:PT1H
BEGIN:VTIMEZONE
TZID:Europe/Paris
BEGIN:DAYLIGHT
TZOFFSETFROM:+0100
TZOFFSETTO:+0200
TZNAME:CEST
DTSTART:20250330T010000
END:DAYLIGHT
BEGIN:STANDARD
TZOFFSETFROM:+0200
TZOFFSETTO:+0100
TZNAME:CET
DTSTART:20251026T010000
END:STANDARD
BEGIN:DAYLIGHT
TZOFFSETFROM:+0100
TZOFFSETTO:+0200
TZNAME:CEST
DTSTART:20260329T010000
END:DAYLIGHT
BEGIN:STANDARD
TZOFFSETFROM:+0200
TZOFFSETTO:+0100
TZNAME:CET
DTSTART:20261025T010000
END:STANDARD
BEGIN:DAYLIGHT
TZOFFSETFROM:+0100
TZOFFSETTO:+0200
TZNAME:CEST
DTSTART:20270328T010000
END:DAYLIGHT
BEGIN:STANDARD
TZOFFSETFROM:+0200
TZOFFSETTO:+0100
TZNAME:CET
DTSTART:20271031T010000
END:STANDARD
END:VTIMEZONE
BEGIN:VEVENT
DTSTART;VALUE=DATE:20260423
DTEND;VALUE=DATE:20260424
DTSTAMP:20260425T155959
CREATED:20260125T151111Z
LAST-MODIFIED:20260125T151111Z
UID:21447-1776902400-1776988799@saintandrelecoq.fr
SUMMARY:REPAS DE PRINTEMPS - CLUB CHANTECLAIR
DESCRIPTION:
URL:https://saintandrelecoq.fr/event/repas-de-printemps-club-chanteclair/
END:VEVENT
BEGIN:VEVENT
DTSTART;VALUE=DATE:20260411
DTEND;VALUE=DATE:20260412
DTSTAMP:20260425T155959
CREATED:20260125T151038Z
LAST-MODIFIED:20260125T151038Z
UID:21445-1775865600-1775951999@saintandrelecoq.fr
SUMMARY:VIDE GARAGE - FOYER RURAL
DESCRIPTION:
URL:https://saintandrelecoq.fr/event/vide-garage-foyer-rural/
END:VEVENT
BEGIN:VEVENT
DTSTART;VALUE=DATE:20260404
DTEND;VALUE=DATE:20260405
DTSTAMP:20260425T155959
CREATED:20260125T151001Z
LAST-MODIFIED:20260125T151001Z
UID:21443-1775260800-1775347199@saintandrelecoq.fr
SUMMARY:THEATRE - LIGUE CONTRE LE CANCER
DESCRIPTION:
URL:https://saintandrelecoq.fr/event/theatre-ligue-contre-le-cancer/
END:VEVENT
BEGIN:VEVENT
DTSTART;VALUE=DATE:20260327
DTEND;VALUE=DATE:20260330
DTSTAMP:20260425T155959
CREATED:20260125T150923Z
LAST-MODIFIED:20260125T150923Z
UID:21441-1774569600-1774828799@saintandrelecoq.fr
SUMMARY:THEATRE - LES COQUELUCHES
DESCRIPTION:
URL:https://saintandrelecoq.fr/event/theatre-les-coqueluches/
END:VEVENT
BEGIN:VEVENT
DTSTART;VALUE=DATE:20260322
DTEND;VALUE=DATE:20260323
DTSTAMP:20260425T155959
CREATED:20260125T150841Z
LAST-MODIFIED:20260125T150841Z
UID:21439-1774137600-1774223999@saintandrelecoq.fr
SUMMARY:ELECTIONS MUNICIPALES - 2EME TOUR
DESCRIPTION:
URL:https://saintandrelecoq.fr/event/elections-municipales-2eme-tour/
END:VEVENT
BEGIN:VEVENT
DTSTART;VALUE=DATE:20260315
DTEND;VALUE=DATE:20260316
DTSTAMP:20260425T155959
CREATED:20260125T150803Z
LAST-MODIFIED:20260125T150803Z
UID:21437-1773532800-1773619199@saintandrelecoq.fr
SUMMARY:ELECTIONS MUNICIPALES - 1ER TOUR
DESCRIPTION:
URL:https://saintandrelecoq.fr/event/elections-municipales-1er-tour/
END:VEVENT
BEGIN:VEVENT
DTSTART;VALUE=DATE:20260308
DTEND;VALUE=DATE:20260309
DTSTAMP:20260425T155959
CREATED:20260125T150718Z
LAST-MODIFIED:20260125T150718Z
UID:21435-1772928000-1773014399@saintandrelecoq.fr
SUMMARY:BALADE GOURMANDE - APE
DESCRIPTION:
URL:https://saintandrelecoq.fr/event/balade-gourmande-ape/
END:VEVENT
BEGIN:VEVENT
DTSTART;VALUE=DATE:20260301
DTEND;VALUE=DATE:20260302
DTSTAMP:20260425T155959
CREATED:20260125T150644Z
LAST-MODIFIED:20260125T150644Z
UID:21433-1772323200-1772409599@saintandrelecoq.fr
SUMMARY:REPAS TRIPES ET BEEFS - SOCIETE DE CHASSE
DESCRIPTION:
URL:https://saintandrelecoq.fr/event/repas-tripes-et-beefs-societe-de-chasse/
END:VEVENT
BEGIN:VEVENT
DTSTART;VALUE=DATE:20260226
DTEND;VALUE=DATE:20260227
DTSTAMP:20260425T160000
CREATED:20260125T150605Z
LAST-MODIFIED:20260125T150605Z
UID:21431-1772064000-1772150399@saintandrelecoq.fr
SUMMARY:REPAS CHOUCROUTE - CLUB CHANTECLAIR
DESCRIPTION:
URL:https://saintandrelecoq.fr/event/repas-choucroute-club-chanteclair/
END:VEVENT
BEGIN:VEVENT
DTSTART;VALUE=DATE:20260221
DTEND;VALUE=DATE:20260222
DTSTAMP:20260425T160000
CREATED:20260125T150507Z
LAST-MODIFIED:20260125T150507Z
UID:21427-1771632000-1771718399@saintandrelecoq.fr
SUMMARY:REPAS DANSANT - FOYER RURAL
DESCRIPTION:
URL:https://saintandrelecoq.fr/event/repas-dansant-foyer-rural/
END:VEVENT
BEGIN:VEVENT
DTSTART;VALUE=DATE:20260131
DTEND;VALUE=DATE:20260201
DTSTAMP:20260425T160000
CREATED:20260125T150428Z
LAST-MODIFIED:20260125T150428Z
UID:21425-1769817600-1769903999@saintandrelecoq.fr
SUMMARY:ASSEMBLEE GENERALE LES COQUELUCHES
DESCRIPTION:
URL:https://saintandrelecoq.fr/event/assemblee-generale-les-coqueluches/
END:VEVENT
END:VCALENDAR